BEGIN:VCALENDAR
VERSION:2.0
PRODID:-//Perfect Inn &amp; Suites - ECPv4.7.3//NONSGML v1.0//EN
CALSCALE:GREGORIAN
METHOD:PUBLISH
X-WR-CALNAME:Perfect Inn &amp; Suites
X-ORIGINAL-URL:http://perfectinns.com
X-WR-CALDESC:Events for Perfect Inn &amp; Suites
BEGIN:VEVENT
DTSTART;VALUE=DATE:20120803
DTEND;VALUE=DATE:20120804
DTSTAMP:20260421T205053
CREATED:20120605T022329Z
LAST-MODIFIED:20120606T182156Z
UID:37-1343952000-1344038399@perfectinns.com
SUMMARY:An Event With a Super Long Title That Stretches to a Second Line
DESCRIPTION:Sed non nisl elit\, eu auctor mauris. Phasellus ligula ligula\, commodo ac tempus eu\, lobortis nec dui. In sagittis bibendum sapien\, et eleifend nibh euismod ut. Morbi quis eros est\, vitae pellentesque quam. Phasellus rhoncus rhoncus convallis. Maecenas elementum velit sed elit semper eget egestas sapien ultricies. \n
URL:http://perfectinns.com/event/an-event-with-a-super-long-title-that-stretches-to-a-second-line/
END:VEVENT
END:VCALENDAR