BEGIN:VCALENDAR
VERSION:2.0
PRODID:-//Perfect Inn &amp; Suites - ECPv4.7.3//NONSGML v1.0//EN
CALSCALE:GREGORIAN
METHOD:PUBLISH
X-WR-CALNAME:Perfect Inn &amp; Suites
X-ORIGINAL-URL:http://perfectinns.com
X-WR-CALDESC:Events for Perfect Inn &amp; Suites
BEGIN:VEVENT
DTSTART;TZID=America/Regina:20120713T080000
DTEND;TZID=America/Regina:20120720T170059
DTSTAMP:20260421T211557
CREATED:20120605T022057Z
LAST-MODIFIED:20120606T182214Z
UID:36-1342166400-1342803659@perfectinns.com
SUMMARY:Multicultural Event
DESCRIPTION:Sed at nibh sed magna rhoncus cursus ac ut lorem. Nullam a vestibulum odio. Sed rhoncus eleifend interdum. Etiam eget posuere mauris. Morbi leo lectus\, cursus blandit accumsan vel\, iaculis nec urna. Suspendisse potenti. Cras sollicitudin consequat fermentum. Quisque sit amet ipsum urna. Nulla facilisi. \n
URL:http://perfectinns.com/event/multicultural-event/
END:VEVENT
END:VCALENDAR