BEGIN:VCALENDAR
VERSION:2.0
PRODID:-//Perfect Inn &amp; Suites - ECPv4.7.3//NONSGML v1.0//EN
CALSCALE:GREGORIAN
METHOD:PUBLISH
X-WR-CALNAME:Perfect Inn &amp; Suites
X-ORIGINAL-URL:http://perfectinns.com
X-WR-CALDESC:Events for Perfect Inn &amp; Suites
BEGIN:VEVENT
DTSTART;VALUE=DATE:20120629
DTEND;VALUE=DATE:20120701
DTSTAMP:20260421T211940
CREATED:20120605T021945Z
LAST-MODIFIED:20120614T202743Z
UID:34-1340928000-1341100799@perfectinns.com
SUMMARY:Weyburn Fiddle Contest
DESCRIPTION:boo \n
URL:http://perfectinns.com/event/weyburn-fiddle-contest/
END:VEVENT
END:VCALENDAR